BEGIN:VCALENDAR
VERSION:2.0
PRODID:-//Scena - ECPv6.8.3//NONSGML v1.0//EN
CALSCALE:GREGORIAN
METHOD:PUBLISH
X-ORIGINAL-URL:https://scenaweb.it
X-WR-CALDESC:Eventi per Scena
REFRESH-INTERVAL;VALUE=DURATION:PT1H
X-Robots-Tag:noindex
X-PUBLISHED-TTL:PT1H
BEGIN:VTIMEZONE
TZID:Europe/Rome
BEGIN:DAYLIGHT
TZOFFSETFROM:+0100
TZOFFSETTO:+0200
TZNAME:CEST
DTSTART:20210328T010000
END:DAYLIGHT
BEGIN:STANDARD
TZOFFSETFROM:+0200
TZOFFSETTO:+0100
TZNAME:CET
DTSTART:20211031T010000
END:STANDARD
BEGIN:DAYLIGHT
TZOFFSETFROM:+0100
TZOFFSETTO:+0200
TZNAME:CEST
DTSTART:20220327T010000
END:DAYLIGHT
BEGIN:STANDARD
TZOFFSETFROM:+0200
TZOFFSETTO:+0100
TZNAME:CET
DTSTART:20221030T010000
END:STANDARD
END:VTIMEZONE
BEGIN:VEVENT
DTSTART;VALUE=DATE:20220606
DTEND;VALUE=DATE:20220607
DTSTAMP:20260420T024815
CREATED:20220606T081927Z
LAST-MODIFIED:20220606T081952Z
UID:10000630-1654473600-1654559999@scenaweb.it
SUMMARY:Bruciare da sola - Una notte di Nadja Mandel’štam con i suoi fantasmi
DESCRIPTION:Il 6 giugno alle 18\,30 Scena ospita la presentazione di “Bruciare da sola – Una notte di Nadja Mandel’štam con i suoi fantasmi”\, il libro di Giovanni Greco\, edito da Ponte alle Grazie. Il romanzo dà voce alla compagna di vita\, arte e confino di Osip Mandel’štam\, in un monologo che ricorda il marito e grande poeta\, arrestato e morto in un campo di lavoro ai tempi delle purghe di Stalin\, nel 1938.\nDurante l’evento\, l’autore ne parlerà con Gabriele Pedullà.\nLetture di Ilaria Genatiempo.\nL’ingresso è libero con prenotazione riservata:\nWhatsapp: 3668301304\nTel: 0651685734\nmail: staffscena@gmail.com\n\n\n#scena #cinema #trastevere #
URL:https://scenaweb.it/evento/bruciare-da-sola-una-notte-di-nadja-mandelstam-con-i-suoi-fantasmi/
CATEGORIES:Incontri,Leggiamo insieme
ATTACH;FMTTYPE=image/jpeg:https://scenaweb.it//app/uploads/2022/06/scena6giugno.jpg
END:VEVENT
BEGIN:VEVENT
DTSTART;VALUE=DATE:20220514
DTEND;VALUE=DATE:20220515
DTSTAMP:20260420T024815
CREATED:20220510T073439Z
LAST-MODIFIED:20220510T073439Z
UID:10000495-1652486400-1652572799@scenaweb.it
SUMMARY:La figlia del ferro
DESCRIPTION:Alle ore 18.30 presentazione libro di Paola Cereda “La figlia del ferro” (Giulio Perrone Editore) con Giulia Caminito. Iole vive all’Elba\, isola di miniere e di ferro. Il bombardamento del 1943 la costringe ad affrontare da sola l’occupazione tedesca e i lunghi mesi che precedono lo sbarco alleato. Figlia di un anarchico\, abita a Portoferraio e si mantiene come lavandaia. Mario\, un giovane vicino di casa\, si accorge di lei\, dell’ostinazione del suo sorriso e della determinazione nelle scelte di ogni giorno. \n  \nPrenotazioni \nvia Whatsapp: 3668301304 \ntelefono fisso: 0651685734 \nvia mail: staffscena@gmail.com \nAll’interno è richiesto l’uso della mascherina \nSCENA Via Degli Orti d’Alibert\, 1\, 00165 Roma RM \naperto tutti i giorni dalle 10.00 alle 23.00 – ingresso libero \n 
URL:https://scenaweb.it/evento/la-figlia-del-ferro/
CATEGORIES:Incontri,Leggiamo insieme
ATTACH;FMTTYPE=image/jpeg:https://scenaweb.it//app/uploads/2022/05/lafigliadelferro.jpg
END:VEVENT
BEGIN:VEVENT
DTSTART;VALUE=DATE:20220511
DTEND;VALUE=DATE:20220512
DTSTAMP:20260420T024815
CREATED:20220510T074142Z
LAST-MODIFIED:20220510T074150Z
UID:10000619-1652227200-1652313599@scenaweb.it
SUMMARY:Diavoli di sabbia
DESCRIPTION:Alle ore 19 presentazione del  libro “Diavoli di sabbia” di Elvira Seminara e Giorgio Ghiotti a cura della libreria L’Altracittà Roma. Ma quanti sono i giorni felici in tutta una vita\, secondo te? Un mucchietto così. Tutti gli altri servono a fare massa\, come la paglia nei cesti di Natale… \n  \nPrenotazioni \nvia Whatsapp: 3668301304 \ntelefono fisso: 0651685734 \nvia mail: staffscena@gmail.com \nAll’interno è richiesto l’uso della mascherina \nSCENA Via Degli Orti d’Alibert\, 1\, 00165 Roma RM \naperto tutti i giorni dalle 10.00 alle 23.00 – ingresso libero
URL:https://scenaweb.it/evento/diavoli-di-sabbia/
CATEGORIES:Incontri,Leggiamo insieme
ATTACH;FMTTYPE=image/jpeg:https://scenaweb.it//app/uploads/2022/05/diavolidisabbia.jpg
END:VEVENT
BEGIN:VEVENT
DTSTART;VALUE=DATE:20220509
DTEND;VALUE=DATE:20220510
DTSTAMP:20260420T024815
CREATED:20220510T074639Z
LAST-MODIFIED:20220510T074639Z
UID:10000621-1652054400-1652140799@scenaweb.it
SUMMARY:Un grande amore
DESCRIPTION:Alle 19.00 Cinescrittori – Giuliano Montaldo dialoga con Franco Montini sul libro “Un grande amore” edito da La nave di Teseo. \nPrenotazioni \nvia Whatsapp: 3668301304 \ntelefono fisso: 0651685734 \nvia mail: staffscena@gmail.com \nAll’interno è richiesto l’uso della mascherina \nSCENA Via Degli Orti d’Alibert\, 1\, 00165 Roma RM \naperto tutti i giorni dalle 10.00 alle 23.00 – ingresso libero
URL:https://scenaweb.it/evento/un-grande-amore/
CATEGORIES:Incontri,Leggiamo insieme
ATTACH;FMTTYPE=image/jpeg:https://scenaweb.it//app/uploads/2021/06/cinema2.jpg
END:VEVENT
BEGIN:VEVENT
DTSTART;VALUE=DATE:20211115
DTEND;VALUE=DATE:20211116
DTSTAMP:20260420T024815
CREATED:20211115T075000Z
LAST-MODIFIED:20211115T075000Z
UID:10000545-1636934400-1637020799@scenaweb.it
SUMMARY:"Supereroi" di Genovese
DESCRIPTION:Il 15 novembre un nuovo appuntamento con Cinescrittori\, la rassegna dedicata al rapporto tra il mondo della letteratura e quella della settima arte. Protagonista di questa serata sarà Paolo Genovese che\, intervistato dal giornalista e critico Franco Montini\, presenterà il suo libro “Supereroi”\, edito da Einaudi.\n\n\nAl termine dell’incontro\, la proiezione dei film “Una famiglia perfetta”.\n\n\nIl tutto a partire dalle 18\,30 da Scena\, in via degli Orti d’Alibert 1 a Trastevere.\n\n\nL’ingresso è gratuito\n\nSALA 1 \nPer prenotazioni: \nvia Whatsapp: 3668301304 \ntelefono fisso: 0651685734 \nvia mail: staffscena@gmail.com
URL:https://scenaweb.it/evento/supereroi-di-genovese/
CATEGORIES:Incontri,Leggiamo insieme
ATTACH;FMTTYPE=image/jpeg:https://scenaweb.it//app/uploads/2021/11/supereroi.jpg
END:VEVENT
BEGIN:VEVENT
DTSTART;VALUE=DATE:20211112
DTEND;VALUE=DATE:20211113
DTSTAMP:20260420T024815
CREATED:20211110T114704Z
LAST-MODIFIED:20211112T095143Z
UID:10000536-1636675200-1636761599@scenaweb.it
SUMMARY:Leggere ad alta voce Friederich Durrenmatt
DESCRIPTION:Alle ore 19:00 LIBRI PER LE TUE ORECCHIE “Leggere ad alta voce Friederich Durrenmatt”: Lino Musella legge dei brani scelti da “La promessa”\, nel centenario dalla nascita dell’autore. Introduzione a cura del regista Paolo Girella. \nSALA 1 \nPer prenotazioni: \nvia Whatsapp: 3668301304 \ntelefono fisso: 0651685734 \nvia mail: staffscena@gmail.com \n 
URL:https://scenaweb.it/evento/leggere-ad-alta-voce-friederich-durrenmatt/
CATEGORIES:Incontri,Leggiamo insieme
ATTACH;FMTTYPE=image/jpeg:https://scenaweb.it//app/uploads/2021/11/Friedrich-Durrenmatt.jpg
END:VEVENT
BEGIN:VEVENT
DTSTART;VALUE=DATE:20211111
DTEND;VALUE=DATE:20211112
DTSTAMP:20260420T024815
CREATED:20211110T113406Z
LAST-MODIFIED:20211110T113406Z
UID:10000535-1636588800-1636675199@scenaweb.it
SUMMARY:Ascoltare l’horror: da Mary Shelley a Shirley Jackson
DESCRIPTION:Alle ore 19:00 LIBRI PER LE TUE ORECCHIE “Ascoltare l’horror: da Mary Shelley a Shirley Jackson.” Loredana Lipperini racconta i grandi classici della letteratura horror in audiolibro. Un excursus sul genere raccontato da una conduttrice\, scrittrice e voce amatissima dal pubblico. \nSALA 1 \nINGRESSO GRATUITO CON PRENOTAZIONE OBBLIGATORIA:\nhttps://scenaweb.it/prenotazioni/ 
URL:https://scenaweb.it/evento/ascoltare-lhorror-da-mary-shelley-a-shirley-jackson/
CATEGORIES:Incontri,Leggiamo insieme
ATTACH;FMTTYPE=image/jpeg:https://scenaweb.it//app/uploads/2021/11/maryshelley.jpg
END:VEVENT
END:VCALENDAR