BEGIN:VCALENDAR
VERSION:2.0
PRODID:-//Scena - ECPv6.8.3//NONSGML v1.0//EN
CALSCALE:GREGORIAN
METHOD:PUBLISH
X-WR-CALNAME:Scena
X-ORIGINAL-URL:https://scenaweb.it
X-WR-CALDESC:Eventi per Scena
REFRESH-INTERVAL;VALUE=DURATION:PT1H
X-Robots-Tag:noindex
X-PUBLISHED-TTL:PT1H
BEGIN:VTIMEZONE
TZID:Europe/Rome
BEGIN:DAYLIGHT
TZOFFSETFROM:+0100
TZOFFSETTO:+0200
TZNAME:CEST
DTSTART:20210328T010000
END:DAYLIGHT
BEGIN:STANDARD
TZOFFSETFROM:+0200
TZOFFSETTO:+0100
TZNAME:CET
DTSTART:20211031T010000
END:STANDARD
END:VTIMEZONE
BEGIN:VEVENT
DTSTART;VALUE=DATE:20211023
DTEND;VALUE=DATE:20211024
DTSTAMP:20260421T050002
CREATED:20211019T114809Z
LAST-MODIFIED:20211021T052912Z
UID:10000500-1634947200-1635033599@scenaweb.it
SUMMARY:"Pane e Cioccolata" libro e film
DESCRIPTION:Ore 18.30 presentazione del libro “PANE E CIOCCOLATA. Brusati\, Manfredi e l’odissea della migrazione” a cura di Gerry Guida\, Fabio Melelli\, prefazione Andrea Occhipinti\, Edizioni Artdigiland 2021. \nOspiti: Andrea Occhipinti\, Luciano Tovoli\, Giacomo Rizzo. \nA seguire proiezione della versione restaurata di PANE E CIOCCOLATA di Franco Brusati con Nino Manfredi\, Anna Karina e Johnny Dorelli. \nSALA 1. \nPrenotazioni: https://scenaweb.it/prenotazioni/ 
URL:https://scenaweb.it/evento/pane-e-cioccolata-libro-e-film/
CATEGORIES:Incontri,Proiezioni
ATTACH;FMTTYPE=image/jpeg:https://scenaweb.it//app/uploads/2021/10/paneecioccolata.jpg
END:VEVENT
BEGIN:VEVENT
DTSTART;VALUE=DATE:20211023
DTEND;VALUE=DATE:20211024
DTSTAMP:20260421T050002
CREATED:20211019T114429Z
LAST-MODIFIED:20211019T114429Z
UID:10000499-1634947200-1635033599@scenaweb.it
SUMMARY:"Inedita" di Katia Bernardi
DESCRIPTION:Ore 17.00 proiezione di Inedita\, regia di Katia Bernardi. \n\n\nSALA 1. \nPrenotazioni: https://scenaweb.it/prenotazioni/ 
URL:https://scenaweb.it/evento/inedita-di-katia-bernardi-2/
CATEGORIES:Proiezioni
ATTACH;FMTTYPE=image/jpeg:https://scenaweb.it//app/uploads/2021/10/Katia_Bernardi-2-950x1440-1.jpg
END:VEVENT
BEGIN:VEVENT
DTSTART;VALUE=DATE:20211023
DTEND;VALUE=DATE:20211024
DTSTAMP:20260421T050002
CREATED:20211019T114255Z
LAST-MODIFIED:20211019T114255Z
UID:10000498-1634947200-1635033599@scenaweb.it
SUMMARY:"Scalfari nostro padre" di Michele Mally
DESCRIPTION:Ore 11.00 proiezione di “Scalfari nostro padre” – regia di Michele Mally. \nSALA 1. \nPrenotazioni: https://scenaweb.it/prenotazioni/ 
URL:https://scenaweb.it/evento/scalfari-nostro-padre-di-michele-mally/
CATEGORIES:Proiezioni
ATTACH;FMTTYPE=image/jpeg:https://scenaweb.it//app/uploads/2021/10/scalfari-scaled.jpeg
END:VEVENT
BEGIN:VEVENT
DTSTART;VALUE=DATE:20211022
DTEND;VALUE=DATE:20211023
DTSTAMP:20260421T050002
CREATED:20211019T073603Z
LAST-MODIFIED:20211019T073603Z
UID:10000497-1634860800-1634947199@scenaweb.it
SUMMARY:"Crazy for Football" di Volfango De Biasi
DESCRIPTION:Ore 21.00 proiezione di “Crazy for Football” – Pazzi per il calcio – regia di Volfango De Biasi. \nSALA 1. \nPrenotazioni: https://scenaweb.it/prenotazioni/ 
URL:https://scenaweb.it/evento/crazy-for-football-di-volfango-de-biasi/
CATEGORIES:Proiezioni
ATTACH;FMTTYPE=image/jpeg:https://scenaweb.it//app/uploads/2021/10/crazyforfootball.jpg
END:VEVENT
BEGIN:VEVENT
DTSTART;VALUE=DATE:20211022
DTEND;VALUE=DATE:20211023
DTSTAMP:20260421T050002
CREATED:20211019T073300Z
LAST-MODIFIED:20211019T073300Z
UID:10000496-1634860800-1634947199@scenaweb.it
SUMMARY:"Il barbiere di Siviglia" di Mario Martone
DESCRIPTION:Ore 11.00 proiezione de “Il barbiere di Siviglia” – regia di Mario Martone e la direzione di Daniele Gatti \nSALA 1. \nPrenotazioni: https://scenaweb.it/prenotazioni/ 
URL:https://scenaweb.it/evento/il-barbiere-di-siviglia-di-mario-martone/
CATEGORIES:Proiezioni
ATTACH;FMTTYPE=image/jpeg:https://scenaweb.it//app/uploads/2021/10/barbieredisiviglia.jpg
END:VEVENT
BEGIN:VEVENT
DTSTART;VALUE=DATE:20211022
DTEND;VALUE=DATE:20211023
DTSTAMP:20260421T050002
CREATED:20211019T073043Z
LAST-MODIFIED:20211019T073043Z
UID:10000494-1634860800-1634947199@scenaweb.it
SUMMARY:"Ciao\, Libertini! Gli anni ottanta secondo Pier Vittorio Tondelli" di Pistolini
DESCRIPTION:Ore 17.00 proiezione di “Ciao\, Libertini! Gli anni ottanta secondo Pier Vittorio Tondelli” – regia di Stefano Pistolini. \nSALA 1. \nPrenotazioni: https://scenaweb.it/prenotazioni/ 
URL:https://scenaweb.it/evento/ciao-libertini-gli-anni-ottanta-secondo-pier-vittorio-tondelli-di-pistolini-2/
CATEGORIES:Proiezioni
ATTACH;FMTTYPE=image/jpeg:https://scenaweb.it//app/uploads/2021/10/ciaolibertini.jpg
END:VEVENT
BEGIN:VEVENT
DTSTART;VALUE=DATE:20211021
DTEND;VALUE=DATE:20211022
DTSTAMP:20260421T050002
CREATED:20211019T072931Z
LAST-MODIFIED:20211019T072931Z
UID:10000492-1634774400-1634860799@scenaweb.it
SUMMARY:"Ciao\, Libertini! Gli anni ottanta secondo Pier Vittorio Tondelli" di Pistolini
DESCRIPTION:Ore 21.00 proiezione di “Ciao\, Libertini! Gli anni ottanta secondo Pier Vittorio Tondelli” – regia di Stefano Pistolini. \nSALA 1. \nPrenotazioni: https://scenaweb.it/prenotazioni/ 
URL:https://scenaweb.it/evento/ciao-libertini-gli-anni-ottanta-secondo-pier-vittorio-tondelli-di-pistolini/
CATEGORIES:Proiezioni
ATTACH;FMTTYPE=image/jpeg:https://scenaweb.it//app/uploads/2021/10/ciaolibertini.jpg
END:VEVENT
BEGIN:VEVENT
DTSTART;VALUE=DATE:20211021
DTEND;VALUE=DATE:20211022
DTSTAMP:20260421T050002
CREATED:20211019T072657Z
LAST-MODIFIED:20211019T072657Z
UID:10000490-1634774400-1634860799@scenaweb.it
SUMMARY:"Il Rigoletto" di Damiano Michieletto: backstage
DESCRIPTION:Ore 11.00 Il Rigoletto di Damiano Michieletto: backstage. \nSALA 1. \nPrenotazioni: https://scenaweb.it/prenotazioni/ 
URL:https://scenaweb.it/evento/il-rigoletto-di-damiano-michieletto-backstage/
CATEGORIES:Proiezioni
ATTACH;FMTTYPE=image/jpeg:https://scenaweb.it//app/uploads/2021/10/rigolettobackstage.jpg
END:VEVENT
BEGIN:VEVENT
DTSTART;VALUE=DATE:20211021
DTEND;VALUE=DATE:20211022
DTSTAMP:20260421T050002
CREATED:20211019T072505Z
LAST-MODIFIED:20211019T072505Z
UID:10000488-1634774400-1634860799@scenaweb.it
SUMMARY:"Il Rigoletto" di Damiano Michieletto
DESCRIPTION:Ore 11.00 Il Rigoletto – registrazione al Circo Massimo di Damiano Michieletto. \nSALA 1. \nPrenotazioni: https://scenaweb.it/prenotazioni/ 
URL:https://scenaweb.it/evento/il-rigoletto-di-damiano-michieletto/
CATEGORIES:Proiezioni
ATTACH;FMTTYPE=image/jpeg:https://scenaweb.it//app/uploads/2021/10/damianomichieletto.jpg
END:VEVENT
BEGIN:VEVENT
DTSTART;VALUE=DATE:20211020
DTEND;VALUE=DATE:20211021
DTSTAMP:20260421T050002
CREATED:20211019T072209Z
LAST-MODIFIED:20211019T113942Z
UID:10000486-1634688000-1634774399@scenaweb.it
SUMMARY:“La metà fantasma” di Alan Pauls
DESCRIPTION:Ore 19.00 presentazione con l’autore Alan Pauls del libro “La metà fantasma” edito da SUR. \nSALA 1. \nPer prenotare è necessario inviare un messaggio WhatsApp al numero +393668301304\, scrivendo “Incontro con Alain Pauls” con nome e cognome di chi partecipa all’incontro. \nPrenotazioni: https://scenaweb.it/prenotazioni/  \n 
URL:https://scenaweb.it/evento/la-meta-fantasma-di-alan-pauls/
CATEGORIES:Incontri
ATTACH;FMTTYPE=image/jpeg:https://scenaweb.it//app/uploads/2021/10/alanpaul.jpg
END:VEVENT
BEGIN:VEVENT
DTSTART;VALUE=DATE:20211020
DTEND;VALUE=DATE:20211021
DTSTAMP:20260421T050002
CREATED:20211019T071033Z
LAST-MODIFIED:20211019T071033Z
UID:10000483-1634688000-1634774399@scenaweb.it
SUMMARY:“Notti in bianco\, baci a colazione” di Francesco Mandelli
DESCRIPTION:Ore 21.00 proiezione di “Notti in bianco\, baci a colazione”\, regia di Francesco Mandelli. \nSALA 1. \nPrenotazioni: https://scenaweb.it/prenotazioni/ 
URL:https://scenaweb.it/evento/notti-in-bianco-baci-a-colazione-di-francesco-mandelli/
CATEGORIES:Proiezioni
ATTACH;FMTTYPE=image/jpeg:https://scenaweb.it//app/uploads/2021/10/nottiinbianco.jpg
END:VEVENT
BEGIN:VEVENT
DTSTART;VALUE=DATE:20211020
DTEND;VALUE=DATE:20211021
DTSTAMP:20260421T050002
CREATED:20211019T070905Z
LAST-MODIFIED:20211019T070905Z
UID:10000481-1634688000-1634774399@scenaweb.it
SUMMARY:“Se dicessimo la verità”\, di Emanuela Giordano\, Giulia Minoli
DESCRIPTION:Ore 17.00 proiezione di “Se dicessimo la verità”\, regia di Emanuela Giordano\, Giulia Minoli. \nSALA 1. \nPrenotazioni: https://scenaweb.it/prenotazioni/ 
URL:https://scenaweb.it/evento/se-dicessimo-la-verita-di-emanuela-giordano-giulia-minoli-2/
CATEGORIES:Proiezioni
ATTACH;FMTTYPE=image/jpeg:https://scenaweb.it//app/uploads/2021/10/sedicessimolaverita.jpg
END:VEVENT
BEGIN:VEVENT
DTSTART;VALUE=DATE:20211020
DTEND;VALUE=DATE:20211021
DTSTAMP:20260421T050002
CREATED:20211019T070721Z
LAST-MODIFIED:20211019T070721Z
UID:10000479-1634688000-1634774399@scenaweb.it
SUMMARY:"Inedita" di Katia Bernardi
DESCRIPTION:Ore 11.00 proiezione di Inedita\, regia di Katia Bernardi. \n\n\nSALA 1. \nPrenotazioni: https://scenaweb.it/prenotazioni/ 
URL:https://scenaweb.it/evento/inedita-di-katia-bernardi/
CATEGORIES:Proiezioni
ATTACH;FMTTYPE=image/jpeg:https://scenaweb.it//app/uploads/2021/10/Katia_Bernardi-2-950x1440-1.jpg
END:VEVENT
BEGIN:VEVENT
DTSTART;VALUE=DATE:20211019
DTEND;VALUE=DATE:20211020
DTSTAMP:20260421T050002
CREATED:20211015T085743Z
LAST-MODIFIED:20211015T085743Z
UID:10000475-1634601600-1634687999@scenaweb.it
SUMMARY:“Marina Cicogna\, La Produttrice” Di Andrea Bettinetti
DESCRIPTION:21.00 Proiezione di “Marina Cicogna\, la produttrice”\, regia di Andrea Bettinetti. \nSALA 1. \nPrenotazioni: https://scenaweb.it/prenotazioni/ 
URL:https://scenaweb.it/evento/marina-cicogna-la-produttrice-di-andrea-bettinetti-2/
CATEGORIES:Proiezioni
ATTACH;FMTTYPE=image/jpeg:https://scenaweb.it//app/uploads/2021/10/mariacicogna.jpg
END:VEVENT
BEGIN:VEVENT
DTSTART;VALUE=DATE:20211019
DTEND;VALUE=DATE:20211020
DTSTAMP:20260421T050002
CREATED:20211015T085615Z
LAST-MODIFIED:20211015T085615Z
UID:10000474-1634601600-1634687999@scenaweb.it
SUMMARY:IONOI Di Nico Vascellari
DESCRIPTION:17.00 proiezione di IONOI – regia di Nico Vascellari. \nSALA 1. \nPrenotazioni: https://scenaweb.it/prenotazioni/ 
URL:https://scenaweb.it/evento/ionoi-di-nico-vascellari-2/
CATEGORIES:Proiezioni
ATTACH;FMTTYPE=image/jpeg:https://scenaweb.it//app/uploads/2021/10/ionoi.jpg
END:VEVENT
BEGIN:VEVENT
DTSTART;VALUE=DATE:20211019
DTEND;VALUE=DATE:20211020
DTSTAMP:20260421T050002
CREATED:20211015T085439Z
LAST-MODIFIED:20211015T085439Z
UID:10000473-1634601600-1634687999@scenaweb.it
SUMMARY:“Con Il Mare Negli Occhi” Di Paolo Magris
DESCRIPTION:11.00 proiezione di “Con il mare negli occhi”\, regia di Paolo Magris. \nSALA 1. \nPrenotazioni: https://scenaweb.it/prenotazioni/ 
URL:https://scenaweb.it/evento/con-il-mare-negli-occhi-di-paolo-magris/
CATEGORIES:Proiezioni
ATTACH;FMTTYPE=image/jpeg:https://scenaweb.it//app/uploads/2021/10/conilmarenegliocchi.jpg
END:VEVENT
BEGIN:VEVENT
DTSTART;VALUE=DATE:20211018
DTEND;VALUE=DATE:20211019
DTSTAMP:20260421T050002
CREATED:20211018T142442Z
LAST-MODIFIED:20211018T142442Z
UID:10000477-1634515200-1634601599@scenaweb.it
SUMMARY:Fight Corn di HotCorn
DESCRIPTION:Ore 19:00 secondo appuntamento di Fight Corn\, il format di HotCorn\, in cui Milena Mancini e Susy Laude si sfideranno a colpi di clip e film preferiti.\n\n\n\nPrenotazioni a eventi@hotcorn.com
URL:https://scenaweb.it/evento/fight-corn-di-hotcorn/
CATEGORIES:Proiezioni
ATTACH;FMTTYPE=image/jpeg:https://scenaweb.it//app/uploads/2021/10/hotcorn.jpg
END:VEVENT
BEGIN:VEVENT
DTSTART;VALUE=DATE:20211018
DTEND;VALUE=DATE:20211019
DTSTAMP:20260421T050002
CREATED:20211018T141950Z
LAST-MODIFIED:20211018T141950Z
UID:10000476-1634515200-1634601599@scenaweb.it
SUMMARY:Città Novecento di Dario Bello e Pierluigi Ferrandini
DESCRIPTION:Ore 17:00 proiezione di Città Novecento\, di Dario Bello e Pierluigi Ferrandini.\nOltre un secolo di progresso e sviluppo\, raccontato da Alessandro Haber. Dal Villaggio Operaio liberty\, al piano di Riccardo Morandi\, l’evoluzione urbanistica e sociale dalla città razionalista degli anni ’30 fino alla Città Aziendale del dopoguerra.\n\nSALA 1. \nPrenotazioni: https://scenaweb.it/prenotazioni/ 
URL:https://scenaweb.it/evento/citta-novecento-di-dario-bello-e-pierluigi-ferrandini/
CATEGORIES:Proiezioni
ATTACH;FMTTYPE=image/jpeg:https://scenaweb.it//app/uploads/2021/10/citta900.jpeg
END:VEVENT
BEGIN:VEVENT
DTSTART;VALUE=DATE:20211018
DTEND;VALUE=DATE:20211019
DTSTAMP:20260421T050002
CREATED:20211015T085206Z
LAST-MODIFIED:20211018T142129Z
UID:10000472-1634515200-1634601599@scenaweb.it
SUMMARY:Benny Benassi – Equilibrio
DESCRIPTION:21.00 proiezione di Benny Benassi – Equilibrio – regia di Matt Mitchener\, Devin Chanda\, Stefano Camurri\, Cesare Della Salda. Ritratto intimo del DJ Benny Benassi\, il documentario racconta la storia italiana della dance music\, dall’Italo-disco degli anni Settanta fino a oggi. \nSALA 1. \nPrenotazioni: https://scenaweb.it/prenotazioni/ 
URL:https://scenaweb.it/evento/benny-benassi-equilibrio/
CATEGORIES:Proiezioni
ATTACH;FMTTYPE=image/jpeg:https://scenaweb.it//app/uploads/2021/10/benny-benassi-equilibrio-docufilm-2-750x470-1.jpeg
END:VEVENT
BEGIN:VEVENT
DTSTART;VALUE=DATE:20211018
DTEND;VALUE=DATE:20211019
DTSTAMP:20260421T050002
CREATED:20211015T084419Z
LAST-MODIFIED:20211015T084419Z
UID:10000471-1634515200-1634601599@scenaweb.it
SUMMARY:IONOI di Nico Vascellari
DESCRIPTION:11.00 proiezione di IONOI – regia di Nico Vascellari. \nSALA 1. \nPrenotazioni: https://scenaweb.it/prenotazioni/ 
URL:https://scenaweb.it/evento/ionoi-di-nico-vascellari/
CATEGORIES:Proiezioni
ATTACH;FMTTYPE=image/jpeg:https://scenaweb.it//app/uploads/2021/10/ionoi.jpg
END:VEVENT
BEGIN:VEVENT
DTSTART;VALUE=DATE:20211017
DTEND;VALUE=DATE:20211018
DTSTAMP:20260421T050002
CREATED:20211015T083956Z
LAST-MODIFIED:20211015T083956Z
UID:10000470-1634428800-1634515199@scenaweb.it
SUMMARY:Oltre la vita delle forme | Il complesso funerario Brion\, il Cimitero di San Cataldo
DESCRIPTION:21.00 proiezione de Oltre la vita delle forme | Il complesso funerario Brion\, il Cimitero di San Cataldo. \nRegia di Francesco Conversano\, Nene Grignaffini. \nSALA 1. \nPrenotazioni: https://scenaweb.it/prenotazioni/ 
URL:https://scenaweb.it/evento/oltre-la-vita-delle-forme-il-complesso-funerario-brion-il-cimitero-di-san-cataldo-2/
CATEGORIES:Proiezioni
ATTACH;FMTTYPE=image/jpeg:https://scenaweb.it//app/uploads/2021/10/cimiterosancataldo-scaled.jpg
END:VEVENT
BEGIN:VEVENT
DTSTART;VALUE=DATE:20211017
DTEND;VALUE=DATE:20211018
DTSTAMP:20260421T050002
CREATED:20211014T073332Z
LAST-MODIFIED:20211014T073332Z
UID:10000469-1634428800-1634515199@scenaweb.it
SUMMARY:Notting Hill di Roger Michell
DESCRIPTION:17.00 proiezione di Notting Hill\, regia di Roger Michell. \nSALA 1. \nPrenotazioni: https://scenaweb.it/prenotazioni/ 
URL:https://scenaweb.it/evento/notting-hill-di-roger-michell/
CATEGORIES:Proiezioni
ATTACH;FMTTYPE=image/jpeg:https://scenaweb.it//app/uploads/2021/10/nottinghill.jpg
END:VEVENT
BEGIN:VEVENT
DTSTART;VALUE=DATE:20211017
DTEND;VALUE=DATE:20211018
DTSTAMP:20260421T050002
CREATED:20211014T071534Z
LAST-MODIFIED:20211014T071534Z
UID:10000367-1634428800-1634515199@scenaweb.it
SUMMARY:Notti in bianco\, baci a colazione di Mandelli
DESCRIPTION:11.00 proiezione di “Notti in bianco\, baci a colazione”\, regia di Francesco Mandelli. \nSALA 1. \nPrenotazioni: https://scenaweb.it/prenotazioni/ 
URL:https://scenaweb.it/evento/notti-in-bianco-baci-a-colazione-di-mandelli/
CATEGORIES:Proiezioni
ATTACH;FMTTYPE=image/jpeg:https://scenaweb.it//app/uploads/2021/10/nottiinbianco.jpg
END:VEVENT
BEGIN:VEVENT
DTSTART;VALUE=DATE:20211016
DTEND;VALUE=DATE:20211017
DTSTAMP:20260421T050002
CREATED:20211014T070556Z
LAST-MODIFIED:20211014T070556Z
UID:10000365-1634342400-1634428799@scenaweb.it
SUMMARY:Mise en scène with Arthur Penn di Amir Naderi
DESCRIPTION:21.00 proiezione di “Mise en scène with Arthur Penn (a conversation)”\, regia di Amir Naderi. \nSALA 1. \nPrenotazioni: https://scenaweb.it/prenotazioni/ 
URL:https://scenaweb.it/evento/mise-en-scene-with-arthur-penn-di-amir-naderi-2/
CATEGORIES:Proiezioni
ATTACH;FMTTYPE=image/jpeg:https://scenaweb.it//app/uploads/2021/10/mise-en-scene.jpg
END:VEVENT
BEGIN:VEVENT
DTSTART;VALUE=DATE:20211016
DTEND;VALUE=DATE:20211017
DTSTAMP:20260421T050002
CREATED:20211014T070448Z
LAST-MODIFIED:20211014T070448Z
UID:10000363-1634342400-1634428799@scenaweb.it
SUMMARY:Mise en scène with Arthur Penn di Amir Naderi
DESCRIPTION:17.00 proiezione di “Mise en scène with Arthur Penn (a conversation)”\, regia di Amir Naderi. \nSALA 1. \nPrenotazioni: https://scenaweb.it/prenotazioni/ 
URL:https://scenaweb.it/evento/mise-en-scene-with-arthur-penn-di-amir-naderi/
CATEGORIES:Proiezioni
ATTACH;FMTTYPE=image/jpeg:https://scenaweb.it//app/uploads/2021/10/mise-en-scene.jpg
END:VEVENT
BEGIN:VEVENT
DTSTART;VALUE=DATE:20211016
DTEND;VALUE=DATE:20211017
DTSTAMP:20260421T050002
CREATED:20211014T070143Z
LAST-MODIFIED:20211014T070143Z
UID:10000361-1634342400-1634428799@scenaweb.it
SUMMARY:"Marina Cicogna\, la produttrice" di Andrea Bettinetti
DESCRIPTION:11.00 Proiezione di “Marina Cicogna\, la produttrice”\, regia di Andrea Bettinetti. \nSALA 1. \nPrenotazioni: https://scenaweb.it/prenotazioni/ 
URL:https://scenaweb.it/evento/marina-cicogna-la-produttrice-di-andrea-bettinetti/
CATEGORIES:Proiezioni
ATTACH;FMTTYPE=image/jpeg:https://scenaweb.it//app/uploads/2021/10/mariacicogna.jpg
END:VEVENT
BEGIN:VEVENT
DTSTART;VALUE=DATE:20211015
DTEND;VALUE=DATE:20211016
DTSTAMP:20260421T050002
CREATED:20211014T065823Z
LAST-MODIFIED:20211014T065823Z
UID:10000359-1634256000-1634342399@scenaweb.it
SUMMARY:Se dicessimo la verità di Emanuela Giordano\, Giulia Minoli
DESCRIPTION:21.00 proiezione di “Se dicessimo la verità”\, regia di Emanuela Giordano\, Giulia Minoli. \nSALA 1. \nPrenotazioni: https://scenaweb.it/prenotazioni/ 
URL:https://scenaweb.it/evento/se-dicessimo-la-verita-di-emanuela-giordano-giulia-minoli/
CATEGORIES:Proiezioni
ATTACH;FMTTYPE=image/jpeg:https://scenaweb.it//app/uploads/2021/10/sedicessimolaverita.jpg
END:VEVENT
BEGIN:VEVENT
DTSTART;VALUE=DATE:20211015
DTEND;VALUE=DATE:20211016
DTSTAMP:20260421T050002
CREATED:20211014T065241Z
LAST-MODIFIED:20211014T065320Z
UID:10000357-1634256000-1634342399@scenaweb.it
SUMMARY:"Con il mare negli occhi" di Paolo Magris
DESCRIPTION:17.00 proiezione di “Con il mare negli occhi”\, regia di Paolo Magris. \nSALA 1. \nPrenotazioni: https://scenaweb.it/prenotazioni/ 
URL:https://scenaweb.it/evento/proiezione-di-con-il-mare-negli-occhi/
CATEGORIES:Proiezioni
ATTACH;FMTTYPE=image/jpeg:https://scenaweb.it//app/uploads/2021/10/conilmarenegliocchi.jpg
END:VEVENT
BEGIN:VEVENT
DTSTART;VALUE=DATE:20211015
DTEND;VALUE=DATE:20211016
DTSTAMP:20260421T050002
CREATED:20211014T064953Z
LAST-MODIFIED:20211014T064953Z
UID:10000355-1634256000-1634342399@scenaweb.it
SUMMARY:Oltre la vita delle forme | Il complesso funerario Brion\, il Cimitero di San Cataldo
DESCRIPTION:11.00 proiezione de Oltre la vita delle forme | Il complesso funerario Brion\, il Cimitero di San Cataldo. \nRegia di Francesco Conversano\, Nene Grignaffini. \nSALA 1. \nPrenotazioni: https://scenaweb.it/prenotazioni/ 
URL:https://scenaweb.it/evento/oltre-la-vita-delle-forme-il-complesso-funerario-brion-il-cimitero-di-san-cataldo/
CATEGORIES:Proiezioni
ATTACH;FMTTYPE=image/jpeg:https://scenaweb.it//app/uploads/2021/10/cimiterosancataldo-scaled.jpg
END:VEVENT
BEGIN:VEVENT
DTSTART;VALUE=DATE:20211012
DTEND;VALUE=DATE:20211013
DTSTAMP:20260421T050002
CREATED:20211011T090552Z
LAST-MODIFIED:20211011T090552Z
UID:10000353-1633996800-1634083199@scenaweb.it
SUMMARY:Presentazione di Forme Web TV
DESCRIPTION:Ore 11:00 presentazione della nuova piattaforma comunicativa Forme Web TV. \nForme Web TV è una piattaforma che pone al centro del suo progetto il racconto di storie e realtà virtuose realizzate da giovani artisti contemporanei. Un portale inclusivo che punta a far emergere tematiche urbane solitamente celate dietro la complessità di una società caotica e iperstimolata\, attraverso i suoi quattro canali: Arte\, Cinema\, Mosaico e Approfondimenti. \nForme Web TV si pone l’obiettivo di sensibilizzare la comunità nei confronti della cultura promuovendo gratuitamente diverse personalità artistiche capitoline\, altrimenti invisibili nella metropoli.\nUn progetto al quale ha creduto per prima la Regione Lazio sostenendolo e premiandolo con il finanziamento del bando “Impresa fa Cultura”. \nSALA 1. \nPrenotazioni: https://scenaweb.it/prenotazioni/ 
URL:https://scenaweb.it/evento/presentazione-di-forme-web-tv/
CATEGORIES:Incontri
ATTACH;FMTTYPE=image/jpeg:https://scenaweb.it//app/uploads/2021/10/formewebtv.jpg
END:VEVENT
END:VCALENDAR