BEGIN:VCALENDAR
VERSION:2.0
PRODID:-//Scena - ECPv6.8.3//NONSGML v1.0//EN
CALSCALE:GREGORIAN
METHOD:PUBLISH
X-WR-CALNAME:Scena
X-ORIGINAL-URL:https://scenaweb.it
X-WR-CALDESC:Eventi per Scena
REFRESH-INTERVAL;VALUE=DURATION:PT1H
X-Robots-Tag:noindex
X-PUBLISHED-TTL:PT1H
BEGIN:VTIMEZONE
TZID:Europe/Rome
BEGIN:DAYLIGHT
TZOFFSETFROM:+0100
TZOFFSETTO:+0200
TZNAME:CEST
DTSTART:20210328T010000
END:DAYLIGHT
BEGIN:STANDARD
TZOFFSETFROM:+0200
TZOFFSETTO:+0100
TZNAME:CET
DTSTART:20211031T010000
END:STANDARD
END:VTIMEZONE
BEGIN:VEVENT
DTSTART;TZID=Europe/Rome:20210609T200000
DTEND;TZID=Europe/Rome:20210609T200000
DTSTAMP:20260423T184319
CREATED:20210503T080657Z
LAST-MODIFIED:20210609T125439Z
UID:10000340-1623268800-1623268800@scenaweb.it
SUMMARY:Proiezione film "Diaz. Non pulite questo sangue"
DESCRIPTION:Proiezione film “Diaz. Non pulite questo sangue” (2h 7m) \ndi Daniele Vicari\n \nA 20 anni dai fatti di Genova\, Scena ospita la proiezione del film “Diaz. Non pulite questo sangue” del 2012 diretto dal regista Daniele Vicari. \nSala 1 \nPer assistere all’evento è necessario prenotarsi al seguente link: https://scenaweb.it/prenotazioni/\nLa prenotazione sarà effettiva dopo la ricezione – via mail – della conferma da parte dello staff.
URL:https://scenaweb.it/evento/incontro-di-villa-in-villa-tra-visite-guidate-e-concerti/
CATEGORIES:Proiezioni
ATTACH;FMTTYPE=image/jpeg:https://scenaweb.it//app/uploads/2021/05/diaz.jpg
END:VEVENT
BEGIN:VEVENT
DTSTART;TZID=Europe/Rome:20210609T190000
DTEND;TZID=Europe/Rome:20210609T190000
DTSTAMP:20260423T184319
CREATED:20210503T082407Z
LAST-MODIFIED:20210609T125445Z
UID:10000344-1623265200-1623265200@scenaweb.it
SUMMARY:Rassegna d’autore con Daniele Vicari
DESCRIPTION:Rassegna d’autore con Daniele Vicari\n\nIntervengono\nDaniele Vicari (regista)\n \nOspite:\nClaudio Santamaria \nEvento in Live Streaming sulla pagina Facebook di Scena \nA seguire proiezione del film “Diaz. Non pulite questo sangue” (2h 7m) di Daniele Vicari. \nPer assistere all’evento è necessario prenotarsi al seguente link: https://scenaweb.it/prenotazioni/\nLa prenotazione sarà effettiva dopo la ricezione – via mail – della conferma da parte dello staff.
URL:https://scenaweb.it/evento/punto-di-informazione-antiviolenza/
CATEGORIES:Incontri
ATTACH;FMTTYPE=image/jpeg:https://scenaweb.it//app/uploads/2021/05/vicari.jpg
END:VEVENT
BEGIN:VEVENT
DTSTART;TZID=Europe/Rome:20210608T193000
DTEND;TZID=Europe/Rome:20210608T193000
DTSTAMP:20260423T184319
CREATED:20210503T080855Z
LAST-MODIFIED:20210607T073614Z
UID:10000341-1623180600-1623180600@scenaweb.it
SUMMARY:Proiezione Film documentario I Rossellini
DESCRIPTION:Proiezione Film documentario I Rossellini \n\nI Rossellini\, (1h 36m)\, film diretto da Alessandro Rossellini\, è un documentario girato dal nipote di Roberto\, uno dei grandi registi del cinema italiano. \nIl film ha vinto un premio ai Nastri d’Argento e ottenuto una candidatura ai David di Donatello. \nProiezione in Sala 1
URL:https://scenaweb.it/evento/incontro-preparatorio-per-il-laboratorio-di-lettura-poetica-la-lettura-ad-alta-voce/
CATEGORIES:Proiezioni
ATTACH;FMTTYPE=image/jpeg:https://scenaweb.it//app/uploads/2021/05/ROSSELLINIS.jpg
END:VEVENT
BEGIN:VEVENT
DTSTART;TZID=Europe/Rome:20210607T193000
DTEND;TZID=Europe/Rome:20210607T193000
DTSTAMP:20260423T184319
CREATED:20210503T081321Z
LAST-MODIFIED:20210607T074735Z
UID:10000342-1623094200-1623094200@scenaweb.it
SUMMARY:Proiezione Film documentario I Rossellini
DESCRIPTION:Proiezione Film documentario I Rossellini \n\nI Rossellini\, (1h 36m)\, film diretto da Alessandro Rossellini\, è un documentario girato dal nipote di Roberto\, uno dei grandi registi del cinema italiano. \nIl film ha vinto un premio ai Nastri d’Argento e ottenuto una candidatura ai David di Donatello. \n \nEvento in LIVE Streaming sulla pagina Facebook di Scena
URL:https://scenaweb.it/evento/presentazione-di-centocelle-melting-pot-di-valerio-magi-andrea-martire-david-kieron-magill/
CATEGORIES:Proiezioni
ATTACH;FMTTYPE=image/jpeg:https://scenaweb.it//app/uploads/2021/05/ROSSELLINIS.jpg
END:VEVENT
BEGIN:VEVENT
DTSTART;TZID=Europe/Rome:20210607T190000
DTEND;TZID=Europe/Rome:20210607T200000
DTSTAMP:20260423T184319
CREATED:20210503T082636Z
LAST-MODIFIED:20210607T073119Z
UID:10000345-1623092400-1623096000@scenaweb.it
SUMMARY:Incontro con il regista Alessandro Rossellini
DESCRIPTION:Incontro Lazio Cinema International\n \nIntervengono\nAlessandro Rossellini (regista)\nGiovanna Pugliese (Responsabile Ufficio Cinema-Progetto ABC Lazio)\nModera Luciano Sovena (Presidente Roma Lazio Film Commission) \nA seguire proiezione del film-documentario “The Rossellinis” \nEvento in Live Streaming sulla pagina Facebook di Scena
URL:https://scenaweb.it/evento/reading-poetico-piccolo-teatro-della-parola/
CATEGORIES:Incontri
ATTACH;FMTTYPE=image/jpeg:https://scenaweb.it//app/uploads/2021/05/rossellini.jpg
END:VEVENT
END:VCALENDAR