BEGIN:VCALENDAR
VERSION:2.0
PRODID:-//Scena - ECPv6.8.3//NONSGML v1.0//EN
CALSCALE:GREGORIAN
METHOD:PUBLISH
X-ORIGINAL-URL:https://scenaweb.it
X-WR-CALDESC:Eventi per Scena
REFRESH-INTERVAL;VALUE=DURATION:PT1H
X-Robots-Tag:noindex
X-PUBLISHED-TTL:PT1H
BEGIN:VTIMEZONE
TZID:Europe/Rome
BEGIN:DAYLIGHT
TZOFFSETFROM:+0100
TZOFFSETTO:+0200
TZNAME:CEST
DTSTART:20260329T010000
END:DAYLIGHT
BEGIN:STANDARD
TZOFFSETFROM:+0200
TZOFFSETTO:+0100
TZNAME:CET
DTSTART:20261025T010000
END:STANDARD
END:VTIMEZONE
BEGIN:VEVENT
DTSTART;TZID=Europe/Rome:20260314T160000
DTEND;TZID=Europe/Rome:20260314T220000
DTSTAMP:20260420T074711
CREATED:20260313T080608Z
LAST-MODIFIED:20260313T080609Z
UID:10000518-1773504000-1773525600@scenaweb.it
SUMMARY:LA VOLONTE' SI RACCONTA "Scenografia\, costume cinematografico"
DESCRIPTION:Ciclo di Incontri dedicati ad Obiettivi\, metodologie\, strumenti \,ammissioni e sbocchi lavorativi degli indirizzi professionali della Scuola d’Arte Cinematografica Gian Maria Volontè
URL:https://scenaweb.it/evento/la-volonte-si-racconta-scenografia-costume-cinematografico/
CATEGORIES:Incontri
ATTACH;FMTTYPE=image/png:https://scenaweb.it//app/uploads/2026/03/logo-scuola-Volonte.png
END:VEVENT
BEGIN:VEVENT
DTSTART;TZID=Europe/Rome:20260317T180000
DTEND;TZID=Europe/Rome:20260317T220000
DTSTAMP:20260420T074711
CREATED:20260313T081045Z
LAST-MODIFIED:20260313T081046Z
UID:10000520-1773770400-1773784800@scenaweb.it
SUMMARY:"Belli e Dannati" - Scuola Cinematografica Gian Maria Volonté
DESCRIPTION:Rassegna cinematografica che riporta in sala opere italiane recenti di grande qualità che\, per una concatenazione di circostanze favorevoli\, non hanno incontrato il pubblico che meritavano. \n  \nProiezione Film \nFuori Vena di Tecla Taidelli (100′)
URL:https://scenaweb.it/evento/belli-e-dannati-scuola-cinematografica-gian-maria-volonte/
CATEGORIES:Proiezioni
ATTACH;FMTTYPE=image/webp:https://scenaweb.it//app/uploads/2026/03/VENA.webp
END:VEVENT
BEGIN:VEVENT
DTSTART;TZID=Europe/Rome:20260319T180000
DTEND;TZID=Europe/Rome:20260319T220000
DTSTAMP:20260420T074711
CREATED:20260313T081232Z
LAST-MODIFIED:20260313T081233Z
UID:10000522-1773943200-1773957600@scenaweb.it
SUMMARY:"Belli e Dannati" - Scuola Cinematografica Gian Maria Volonté
DESCRIPTION:Rassegna cinematografica che riporta in sala opere italiane recenti di grande qualità che\, per una concatenazione di circostanze favorevoli\, non hanno incontrato il pubblico che meritavano \nProiezione Film\nD’Istruzione pubblica di\nFederico Greco e Mirko Melchiorre (97′)
URL:https://scenaweb.it/evento/belli-e-dannati-scuola-cinematografica-gian-maria-volonte-2/
CATEGORIES:Proiezioni
ATTACH;FMTTYPE=image/jpeg:https://scenaweb.it//app/uploads/2026/03/distruzione-pubblica-poster.jpg
END:VEVENT
BEGIN:VEVENT
DTSTART;TZID=Europe/Rome:20260321T150000
DTEND;TZID=Europe/Rome:20260321T180000
DTSTAMP:20260420T074711
CREATED:20260313T081332Z
LAST-MODIFIED:20260318T083408Z
UID:10000523-1774105200-1774116000@scenaweb.it
SUMMARY:LA VOLONTE' SI RACCONTA "Ripresa del suono\,montaggio del suono\, montaggio della Scena"
DESCRIPTION:Ciclo di Incontri dedicati ad Obiettivi\, metodologie\, strumenti \,ammissioni e sbocchi lavorativi degli indirizzi professionali della Scuola d’Arte Cinematografica Gian Maria Volontè
URL:https://scenaweb.it/evento/la-volonte-si-racconta-ripresa-del-suonomontaggio-del-suono-montaggio-della-scena/
CATEGORIES:Incontri
ATTACH;FMTTYPE=image/png:https://scenaweb.it//app/uploads/2026/03/logo-scuola-Volonte-1.png
END:VEVENT
BEGIN:VEVENT
DTSTART;TZID=Europe/Rome:20260324T180000
DTEND;TZID=Europe/Rome:20260324T220000
DTSTAMP:20260420T074711
CREATED:20260313T081548Z
LAST-MODIFIED:20260313T081549Z
UID:10000525-1774375200-1774389600@scenaweb.it
SUMMARY:"Belli e Dannati" - Scuola Cinematografica Gian Maria Volonté
DESCRIPTION:Rassegna cinematografica che riporta in sala opere italiane recenti di grande qualità che\, per una concatenazione di circostanze favorevoli\, non hanno incontrato il pubblico che meritavano. \n  \nProiezione Film\nWax di Lorenzo Corvino (103′)
URL:https://scenaweb.it/evento/belli-e-dannati-scuola-cinematografica-gian-maria-volonte-3/
CATEGORIES:Proiezioni
ATTACH;FMTTYPE=image/jpeg:https://scenaweb.it//app/uploads/2026/03/wax-we-are-the-x-poster.jpg
END:VEVENT
BEGIN:VEVENT
DTSTART;TZID=Europe/Rome:20260326T180000
DTEND;TZID=Europe/Rome:20260326T220000
DTSTAMP:20260420T074711
CREATED:20260313T081815Z
LAST-MODIFIED:20260313T081816Z
UID:10000649-1774548000-1774562400@scenaweb.it
SUMMARY:"Belli e Dannati" - Scuola Cinematografica Gian Maria Volonté
DESCRIPTION:Rassegna cinematografica che riporta in sala opere italiane recenti di grande qualità che\, per una concatenazione di circostanze favorevoli\, non hanno incontrato il pubblico che meritavano. \n  \nProiezione Film\nRIP di\nAlessandro D’Ambrosi e Santa de Santis (90′)
URL:https://scenaweb.it/evento/belli-e-dannati-scuola-cinematografica-gian-maria-volonte-4/
CATEGORIES:Proiezioni
ATTACH;FMTTYPE=image/webp:https://scenaweb.it//app/uploads/2026/03/rip-scaled.webp
END:VEVENT
BEGIN:VEVENT
DTSTART;TZID=Europe/Rome:20260331T180000
DTEND;TZID=Europe/Rome:20260331T220000
DTSTAMP:20260420T074711
CREATED:20260313T082030Z
LAST-MODIFIED:20260313T082031Z
UID:10000650-1774980000-1774994400@scenaweb.it
SUMMARY:"Belli e Dannati" - Scuola Cinematografica Gian Maria Volonté
DESCRIPTION:Rassegna cinematografica che riporta in sala opere italiane recenti di grande qualità che\, per una concatenazione di circostanze favorevoli\, non hanno incontrato il pubblico che meritavano. \n  \nProiezione film \nNever mind di Eros Puglielli (110′)
URL:https://scenaweb.it/evento/belli-e-dannati-scuola-cinematografica-gian-maria-volonte-5/
CATEGORIES:Proiezioni
ATTACH;FMTTYPE=image/jpeg:https://scenaweb.it//app/uploads/2026/03/500314-nevermind-2018-0-230-0-345-crop.jpg
END:VEVENT
BEGIN:VEVENT
DTSTART;TZID=Europe/Rome:20260416T183000
DTEND;TZID=Europe/Rome:20260416T210000
DTSTAMP:20260420T074711
CREATED:20260415T095635Z
LAST-MODIFIED:20260417T093221Z
UID:10000652-1776364200-1776373200@scenaweb.it
SUMMARY:A Scena: “I volti di Roma” e “Le follie del documentario” - 16/17 aprile 2026
DESCRIPTION:Dal 16 aprile ai primi di giugno\, LAZIOcrea – società in house della Regione Lazio – in collaborazione con la Cineteca Nazionale presenta\, presso lo Spazio Scena (Via degli Orti d’Alibert 1\, Roma)\, un doppio appuntamento settimanale (il giovedì e il venerdì) pensato per valorizzare il patrimonio cinematografico e promuovere il dialogo culturale attorno alla settima arte. \nDue le rassegne in programma: “Le follie del documentario” e “I volti di Roma”\, curate da Steve Della Casa\, conservatore della Cineteca Nazionale. \n«Come diceva Alberto Farassino\, c’è spesso più creatività e più emozione nel cinema del reale rispetto a quello di finzione. Le follie del documentario è una scommessa su film non fiction che si basano sulla sceneggiatura più importante mai scritta: quella che ogni giorno ci propone la realtà»\, dichiara Della Casa. \nE\, a proposito de I volti di Roma\, aggiunge: «Non c’è dubbio: la città più cinematografica del secondo dopoguerra è Roma. Ma Roma non è soltanto strade\, piazze e monumenti. Il pubblico ha amato i suoi volti: attori e attrici che l’hanno resa grande e famosa in tutto il mondo. Alberto\, Nino\, Monica\, Anna: non servono neanche i cognomi». \nOgni giovedì sarà dedicato al documentario\, con una selezione di opere che spaziano tra sguardi autoriali\, ricerca storica e narrazione contemporanea. Le proiezioni saranno talvolta affiancate dalla presentazione di libri di cinema\, offrendo al pubblico occasioni di approfondimento e incontro con autori\, studiosi e protagonisti del settore. \nIl primo appuntamento è in programma il 16 aprile alle ore 18.30\, con un incontro moderato da Steve Della Casa insieme a Filippo Mauceri. A seguire\, la proiezione del film Quel che resta. A proposito della restanza (2026\, 100’)\, con replica alle ore 21.00. \nIl venerdì sarà invece dedicato alla rassegna I volti di Roma\, un omaggio ai grandi attori e alle grandi attrici che hanno contribuito a rendere Roma celebre nel mondo. In programma film restaurati dalla Cineteca Nazionale\, che riportano sul grande schermo interpretazioni indimenticabili e opere fondamentali della storia del cinema italiano. \nIl primo appuntamento\, il 17 aprile\, è dedicato a Anna Magnani con la proiezione di Bellissima di Luchino Visconti (1951\, 116’). \nUn’iniziativa che intende coniugare memoria e scoperta\, riscoprendo volti\, storie e linguaggi che continuano a parlare al presente. \nTutti gli eventi sono a ingresso gratuito.
URL:https://scenaweb.it/evento/a-scena-i-volti-di-roma-e-le-follie-del-documentario-16-17-aprile-2026/
CATEGORIES:Proiezioni
ATTACH;FMTTYPE=image/jpeg:https://scenaweb.it//app/uploads/2026/04/Quel-che-resta-Post-facebook-e-instagram-45-1.jpg
END:VEVENT
BEGIN:VEVENT
DTSTART;TZID=Europe/Rome:20260417T203000
DTEND;TZID=Europe/Rome:20260417T223000
DTSTAMP:20260420T074711
CREATED:20260417T093629Z
LAST-MODIFIED:20260417T093630Z
UID:10000653-1776457800-1776465000@scenaweb.it
SUMMARY:Rassegna della Cineteca Nazionale “I volti di Roma” - Omaggio a Anna Magnani\, una delle grandi attrici che hanno reso Roma celebre nel mondo
DESCRIPTION:“Bellissima” film di Luchino Visconti (1951\, 116’)\nAnna Magnani è Maddalena Cecconi\, una madre romana che prova una sfrenata\nadorazione per l’unica figlia\, Maria\, di 8 anni. Quando a Cinecittà viene bandito un\nconcorso per una parte\, Maddalena decide di presentare sua figlia come candidata.\nPerduta in una labirintica cittadella del cinema\, madre e figlia scopriranno le\ncontraddizioni e la parte ‘non detta’ del mondo dello spettacolo. Visconti rappresenta\nla disillusione del cinema e dell’immaginario che gli orbita attorno\, con un meta-film\nche si incastra perfettamente nella sua carriera di regista-simbolo del Neorealismo e\ndel suo superamento.
URL:https://scenaweb.it/evento/rassegna-della-cineteca-nazionale-i-volti-di-roma-omaggio-a-anna-magnani-una-delle-grandi-attrici-che-hanno-reso-roma-celebre-nel-mondo/
CATEGORIES:Proiezioni
ATTACH;FMTTYPE=image/jpeg:https://scenaweb.it//app/uploads/2026/04/BELLISSIMA-748x1024-1.jpg
END:VEVENT
BEGIN:VEVENT
DTSTART;TZID=Europe/Rome:20260423T200000
DTEND;TZID=Europe/Rome:20260423T220000
DTSTAMP:20260420T074711
CREATED:20260419T122029Z
LAST-MODIFIED:20260419T122029Z
UID:10000654-1776974400-1776981600@scenaweb.it
SUMMARY:Rassegna della Cineteca Nazionale "Le Follie del Documentario" - Selezione di opere che spaziano tra sguardi autoriali\, ricerca storica e narrazione contemporanea. Proiezioni\, a volte\, affiancate da presentazione di libri e incontri con gli autori e i protagonisti del settore
DESCRIPTION:Ore 20.00 Incontro con Alessandro Rossellini \nA seguire “The Rosselinis” di Alessandro Rossellini (2020\, 96’)\n\nAttraverso un racconto in prima persona\, il regista intraprende un viaggio alla ricerca delle proprie radici\, confrontandosi con l’eredità importante e affascinante lasciata dal nonno Roberto Rossellini e dalla nonna Ingrid Bergman. Più che una semplice ricostruzione biografica\, il film si configura come un’indagine identitaria: Alessandro Rossellini intreccia materiali d’archivio\, testimonianze e momenti di vita privata per esplorare il peso del cognome che porta e il significato di appartenere a una dinastia artistica così prestigiosa.
URL:https://scenaweb.it/evento/rassegna-della-cineteca-nazionale-le-follie-del-documentario-selezione-di-opere-che-spaziano-tra-sguardi-autoriali-ricerca-storica-e-narrazione-contemporanea-proiezioni-a-volte-affiancate-da/
CATEGORIES:Incontri,Proiezioni
ATTACH;FMTTYPE=image/jpeg:https://scenaweb.it//app/uploads/2026/04/The-Rossellinis-23.4.26-1.jpg
END:VEVENT
BEGIN:VEVENT
DTSTART;TZID=Europe/Rome:20260424T203000
DTEND;TZID=Europe/Rome:20260424T223000
DTSTAMP:20260420T074711
CREATED:20260419T122435Z
LAST-MODIFIED:20260419T122436Z
UID:10000655-1777062600-1777069800@scenaweb.it
SUMMARY:Rassegna della Cineteca Nazionale “I volti di Roma” - Omaggio a Anna Magnani\, una delle grandi attrici che hanno reso Roma celebre nel mondo
DESCRIPTION:Ore 20.30 “Mamma Roma” film di Pier Paolo Pasolini (1962\, 107’) \nUno dei nodi drammatici più intensi del film è il contrasto\, anche fisico\, fra la vitalità irruenta e sanguigna di una grande Anna Magnani e l’apatia opaca del non attore Ettore Garofolo. Dietro la tragedia di madre e figlio\, il film descrive i primi segni della trasformazione di un paese che sta perdendo e corrompendo i suoi caratteri originari» (Roberto Chiesi). \nRestaurato in 4K da CSC – Cineteca Nazionale a partire dai negativi originali 35mm e dalla colonna ottica messi a disposizione da RTI-Mediaset in collaborazione con Infinity+ e Cine3
URL:https://scenaweb.it/evento/rassegna-della-cineteca-nazionale-i-volti-di-roma-omaggio-a-anna-magnani-una-delle-grandi-attrici-che-hanno-reso-roma-celebre-nel-mondo-2/
CATEGORIES:Proiezioni
ATTACH;FMTTYPE=image/jpeg:https://scenaweb.it//app/uploads/2026/04/Mamma-Roma-24.4.26.jpg
END:VEVENT
END:VCALENDAR